BEGIN:VCALENDAR
VERSION:2.0
PRODID:-//Gesundheitsforum Rheinfelden - ECPv6.15.20//NONSGML v1.0//EN
CALSCALE:GREGORIAN
METHOD:PUBLISH
X-WR-CALNAME:Gesundheitsforum Rheinfelden
X-ORIGINAL-URL:https://gesundheitsforum-rheinfelden.ch
X-WR-CALDESC:Veranstaltungen für Gesundheitsforum Rheinfelden
REFRESH-INTERVAL;VALUE=DURATION:PT1H
X-Robots-Tag:noindex
X-PUBLISHED-TTL:PT1H
BEGIN:VTIMEZONE
TZID:UTC
BEGIN:STANDARD
TZOFFSETFROM:+0000
TZOFFSETTO:+0000
TZNAME:UTC
DTSTART:20250101T000000
END:STANDARD
END:VTIMEZONE
BEGIN:VEVENT
DTSTART;VALUE=DATE:20260906
DTEND;VALUE=DATE:20260907
DTSTAMP:20260420T013347
CREATED:20260130T092219Z
LAST-MODIFIED:20260130T094427Z
UID:7760-1788652800-1788739199@gesundheitsforum-rheinfelden.ch
SUMMARY:Bewegungstag ANDIAMO von schweiz.bewegt
DESCRIPTION:Am Sonntag\, 6. September 2026 (provisorisch)\, 11 – 17 Uhr\, auf dem Dach des Rheinparkings. Bewegungsfest für Gross und Klein mit einer bunten Auswahl an Aktivitäten.
URL:https://gesundheitsforum-rheinfelden.ch/event/bewegungstag-andiamo-von-schweiz-bewegt/
CATEGORIES:Event
END:VEVENT
END:VCALENDAR